BEGIN:VCALENDAR
VERSION:2.0
PRODID:-//Ashtanga Saadhana Yoga Shaala - ECPv6.15.11//NONSGML v1.0//EN
CALSCALE:GREGORIAN
METHOD:PUBLISH
X-WR-CALNAME:Ashtanga Saadhana Yoga Shaala
X-ORIGINAL-URL:https://www.ashtangasaadhana.com
X-WR-CALDESC:Events for Ashtanga Saadhana Yoga Shaala
REFRESH-INTERVAL;VALUE=DURATION:PT1H
X-Robots-Tag:noindex
X-PUBLISHED-TTL:PT1H
BEGIN:VTIMEZONE
TZID:UTC
BEGIN:STANDARD
TZOFFSETFROM:+0000
TZOFFSETTO:+0000
TZNAME:UTC
DTSTART:20240101T000000
END:STANDARD
END:VTIMEZONE
BEGIN:VEVENT
DTSTART;VALUE=DATE:20250619
DTEND;VALUE=DATE:20250622
DTSTAMP:20260424T091233
CREATED:20250703T092939Z
LAST-MODIFIED:20250703T092939Z
UID:1245-1750291200-1750550399@www.ashtangasaadhana.com
SUMMARY:19th to 21st June\, at Just yoga\, Vienna
DESCRIPTION:Contact Maria Tuereke\, info@justyoga.at
URL:https://www.ashtangasaadhana.com/event/19th-to-21st-june-at-just-yoga-vienna/
LOCATION:Just Yoga\, Vienna\, Austria
CATEGORIES:Workshops
END:VEVENT
END:VCALENDAR