BEGIN:VCALENDAR
VERSION:2.0
PRODID:-//Ashtanga Saadhana Yoga Shaala - ECPv6.15.11//NONSGML v1.0//EN
CALSCALE:GREGORIAN
METHOD:PUBLISH
X-ORIGINAL-URL:https://www.ashtangasaadhana.com
X-WR-CALDESC:Events for Ashtanga Saadhana Yoga Shaala
REFRESH-INTERVAL;VALUE=DURATION:PT1H
X-Robots-Tag:noindex
X-PUBLISHED-TTL:PT1H
BEGIN:VTIMEZONE
TZID:UTC
BEGIN:STANDARD
TZOFFSETFROM:+0000
TZOFFSETTO:+0000
TZNAME:UTC
DTSTART:20240101T000000
END:STANDARD
END:VTIMEZONE
BEGIN:VEVENT
DTSTART;VALUE=DATE:20250613
DTEND;VALUE=DATE:20250617
DTSTAMP:20260424T085800
CREATED:20250703T092649Z
LAST-MODIFIED:20250703T092649Z
UID:1242-1749772800-1750118399@www.ashtangasaadhana.com
SUMMARY:13th to 16th June in Leipzig \, at Ashtanga Yoga Loft Leipzig
DESCRIPTION:Workshop Details: https://www.ashtangaleipzig.de/…/workshop-mit-vijay-kumar/
URL:https://www.ashtangasaadhana.com/event/13th-to-16th-june-in-leipzig-at-ashtanga-yoga-loft-leipzig/
LOCATION:Ashtanga Yoga Loft Leipzig\, Leipzig\, Germany
CATEGORIES:Workshops
END:VEVENT
END:VCALENDAR