BEGIN:VCALENDAR
VERSION:2.0
PRODID:-//Ashtanga Saadhana Yoga Shaala - ECPv6.15.11//NONSGML v1.0//EN
CALSCALE:GREGORIAN
METHOD:PUBLISH
X-ORIGINAL-URL:https://www.ashtangasaadhana.com
X-WR-CALDESC:Events for Ashtanga Saadhana Yoga Shaala
REFRESH-INTERVAL;VALUE=DURATION:PT1H
X-Robots-Tag:noindex
X-PUBLISHED-TTL:PT1H
BEGIN:VTIMEZONE
TZID:UTC
BEGIN:STANDARD
TZOFFSETFROM:+0000
TZOFFSETTO:+0000
TZNAME:UTC
DTSTART:20240101T000000
END:STANDARD
END:VTIMEZONE
BEGIN:VEVENT
DTSTART;VALUE=DATE:20250603
DTEND;VALUE=DATE:20250610
DTSTAMP:20260424T102915
CREATED:20250703T092248Z
LAST-MODIFIED:20250703T092248Z
UID:1239-1748908800-1749513599@www.ashtangasaadhana.com
SUMMARY:3rd of June till the 9th in Berlin\,  at Ashtanga studio Berlin
DESCRIPTION:Workshop Details: https://www.ashtangastudio.de/…/vijay-kumar-mysore-india/
URL:https://www.ashtangasaadhana.com/event/3rd-of-june-till-the-9th-in-berlin-at-ashtanga-studio-berlin/
LOCATION:Ashtanga Studio\, Berlin\, Berlin\, Germany
CATEGORIES:Workshops
END:VEVENT
END:VCALENDAR